BEGIN:VCALENDAR
VERSION:2.0
PRODID:-//Wellstar Foundation - ECPv6.15.16//NONSGML v1.0//EN
CALSCALE:GREGORIAN
METHOD:PUBLISH
X-ORIGINAL-URL:https://foundation.wellstar.org
X-WR-CALDESC:Events for Wellstar Foundation
REFRESH-INTERVAL;VALUE=DURATION:PT1H
X-Robots-Tag:noindex
X-PUBLISHED-TTL:PT1H
BEGIN:VTIMEZONE
TZID:America/Halifax
BEGIN:DAYLIGHT
TZOFFSETFROM:-0400
TZOFFSETTO:-0300
TZNAME:ADT
DTSTART:20250309T060000
END:DAYLIGHT
BEGIN:STANDARD
TZOFFSETFROM:-0300
TZOFFSETTO:-0400
TZNAME:AST
DTSTART:20251102T050000
END:STANDARD
BEGIN:DAYLIGHT
TZOFFSETFROM:-0400
TZOFFSETTO:-0300
TZNAME:ADT
DTSTART:20260308T060000
END:DAYLIGHT
BEGIN:STANDARD
TZOFFSETFROM:-0300
TZOFFSETTO:-0400
TZNAME:AST
DTSTART:20261101T050000
END:STANDARD
BEGIN:DAYLIGHT
TZOFFSETFROM:-0400
TZOFFSETTO:-0300
TZNAME:ADT
DTSTART:20270314T060000
END:DAYLIGHT
BEGIN:STANDARD
TZOFFSETFROM:-0300
TZOFFSETTO:-0400
TZNAME:AST
DTSTART:20271107T050000
END:STANDARD
END:VTIMEZONE
BEGIN:VEVENT
DTSTART;VALUE=DATE:20261019
DTEND;VALUE=DATE:20261020
DTSTAMP:20260420T200152
CREATED:20230604T175404Z
LAST-MODIFIED:20251230T200024Z
UID:10000003-1792368000-1792454399@foundation.wellstar.org
SUMMARY:Wellstar Foundation Golf Classic
DESCRIPTION:Wellstar Foundation Golf Classic \nMonday\, October 19\, 2026\nThe Golf Club of Georgia \nDriving for change\, the Wellstar Foundation Golf Classic convenes prominent corporate partners and Wellstar executives to support ongoing healthcare initiatives benefiting all Georgians. As the event continues to grow and improve in its 33rd year\, the tournament will be hosted at one of Metro Atlanta’s premier golf venues: The Golf Club of Georgia. The format will consist of a single flight spanning two courses\, replacing the prior schedule of separate morning and afternoon rounds. Participants will have opportunities for professional networking\, competitive play\, skill-based contests\, cash prizes\, giveaways and more. The Golf Classic annually sells out so register today to reserve your spot! \n8:00 a.m. Golf Clinic Check-in and Breakfast (Presale Sponsors Only)\n9:00 a.m. – 10:00 a.m. Golf Clinic (Presale Sponsors Only)\n10:30 a.m. Opening Program\n11:00 a.m. Shotgun Start\n4:00 p.m. Awards Reception and Dinner \nThe 2026 Wellstar Foundation Golf Classic sponsorship packet provides more information on how you can support. If you have any questions\, please email Kiana.Matthews@wellstar.org.
URL:https://foundation.wellstar.org/event/wellstar-foundation-golf-classic/
LOCATION:The Golf Club of Georgia\, 1 Golf Club Dr\, Alpharetta\, GA\, 30005\, United States
CATEGORIES:Sponsor Calendar
ATTACH;FMTTYPE=image/png:https://foundation.wellstar.org/wp-content/uploads/2023/06/Foundation-Golf-Classic.png
END:VEVENT
END:VCALENDAR